BEGIN:VCALENDAR
VERSION:2.0
PRODID:-//Club Patín Alcobendas - ECPv6.15.20//NONSGML v1.0//EN
CALSCALE:GREGORIAN
METHOD:PUBLISH
X-ORIGINAL-URL:https://cpalcobendas.com
X-WR-CALDESC:Eventos para Club Patín Alcobendas
REFRESH-INTERVAL;VALUE=DURATION:PT1H
X-Robots-Tag:noindex
X-PUBLISHED-TTL:PT1H
BEGIN:VTIMEZONE
TZID:Europe/Madrid
BEGIN:DAYLIGHT
TZOFFSETFROM:+0100
TZOFFSETTO:+0200
TZNAME:CEST
DTSTART:20190331T010000
END:DAYLIGHT
BEGIN:STANDARD
TZOFFSETFROM:+0200
TZOFFSETTO:+0100
TZNAME:CET
DTSTART:20191027T010000
END:STANDARD
BEGIN:DAYLIGHT
TZOFFSETFROM:+0100
TZOFFSETTO:+0200
TZNAME:CEST
DTSTART:20200329T010000
END:DAYLIGHT
BEGIN:STANDARD
TZOFFSETFROM:+0200
TZOFFSETTO:+0100
TZNAME:CET
DTSTART:20201025T010000
END:STANDARD
BEGIN:DAYLIGHT
TZOFFSETFROM:+0100
TZOFFSETTO:+0200
TZNAME:CEST
DTSTART:20210328T010000
END:DAYLIGHT
BEGIN:STANDARD
TZOFFSETFROM:+0200
TZOFFSETTO:+0100
TZNAME:CET
DTSTART:20211031T010000
END:STANDARD
BEGIN:DAYLIGHT
TZOFFSETFROM:+0100
TZOFFSETTO:+0200
TZNAME:CEST
DTSTART:20220327T010000
END:DAYLIGHT
BEGIN:STANDARD
TZOFFSETFROM:+0200
TZOFFSETTO:+0100
TZNAME:CET
DTSTART:20221030T010000
END:STANDARD
END:VTIMEZONE
BEGIN:VEVENT
DTSTART;TZID=Europe/Madrid:20210131T124500
DTEND;TZID=Europe/Madrid:20210131T140000
DTSTAMP:20260419T171428
CREATED:20201127T094826Z
LAST-MODIFIED:20210126T090327Z
UID:1283-1612097100-1612101600@cpalcobendas.com
SUMMARY:20/21 - 2ª Alevín Grupo 1: Alcobendas C vs Retamar
DESCRIPTION:Encuentro correspondiente a la liga regular de la temporada 2020/2021
URL:https://cpalcobendas.com/evento/20-21-2a-alevin-grupo-1-alcobendas-c-vs-retamar/
LOCATION:Pista 4 Polideportivo José Caballero\, Av. de la Transición Española\, s/n\, Alcobendas\, Madrid\, 28108\, España
CATEGORIES:Alevín,Base
ATTACH;FMTTYPE=image/jpeg:https://cpalcobendas.com/wp-content/uploads/2020/11/evento-alevin-c.jpg
ORGANIZER;CN="Federaci%C3%B3n Madrile%C3%B1a de Patinaje":MAILTO:info.fmp@fmp.es
END:VEVENT
BEGIN:VEVENT
DTSTART;TZID=Europe/Madrid:20210131T113000
DTEND;TZID=Europe/Madrid:20210131T130000
DTSTAMP:20260419T171428
CREATED:20201121T113024Z
LAST-MODIFIED:20210123T103809Z
UID:1065-1612092600-1612098000@cpalcobendas.com
SUMMARY:20/21 - 1ª Autonómica Femenina: Sta. Mª del Pilar vs Alcobendas
DESCRIPTION:Encuentro correspondiente a la primera fase de la liga de la temporada 2020/2021
URL:https://cpalcobendas.com/evento/20-21-1a-autonomica-femenina-sta-ma-del-pilar-vs-alcobendas/
CATEGORIES:1ª Autonómica Femenino
ATTACH;FMTTYPE=image/jpeg:https://cpalcobendas.com/wp-content/uploads/2020/11/evento-femenino-senior.jpg
ORGANIZER;CN="Federaci%C3%B3n Madrile%C3%B1a de Patinaje":MAILTO:info.fmp@fmp.es
END:VEVENT
BEGIN:VEVENT
DTSTART;TZID=Europe/Madrid:20210131T113000
DTEND;TZID=Europe/Madrid:20210131T124500
DTSTAMP:20260419T171428
CREATED:20201127T094320Z
LAST-MODIFIED:20210126T090413Z
UID:1276-1612092600-1612097100@cpalcobendas.com
SUMMARY:20/21 - 1ª Alevín Grupo C: Alcobendas A vs Gredos San Diego
DESCRIPTION:Encuentro correspondiente a la liga regular de la temporada 2020/2021
URL:https://cpalcobendas.com/evento/20-21-1a-alevin-grupo-c-alcobendas-a-vs-gredos-san-diego/
LOCATION:Pista 4 Polideportivo José Caballero\, Av. de la Transición Española\, s/n\, Alcobendas\, Madrid\, 28108\, España
CATEGORIES:Alevín,Base
ATTACH;FMTTYPE=image/jpeg:https://cpalcobendas.com/wp-content/uploads/2020/11/evento-alevin-a.jpg
ORGANIZER;CN="Federaci%C3%B3n Madrile%C3%B1a de Patinaje":MAILTO:info.fmp@fmp.es
END:VEVENT
BEGIN:VEVENT
DTSTART;TZID=Europe/Madrid:20210131T100000
DTEND;TZID=Europe/Madrid:20210131T113000
DTSTAMP:20260419T171428
CREATED:20201127T094523Z
LAST-MODIFIED:20210126T090509Z
UID:1277-1612087200-1612092600@cpalcobendas.com
SUMMARY:20/21 - 2ª Infantil Grupo A: Gredos San Diego vs Alcobendas C
DESCRIPTION:Encuentro correspondiente a la liga regular de la temporada 2020/2021
URL:https://cpalcobendas.com/evento/20-21-2a-infantil-grupo-a-gredos-san-diego-vs-alcobendas-c/
LOCATION:Pista 4 Polideportivo José Caballero\, Av. de la Transición Española\, s/n\, Alcobendas\, Madrid\, 28108\, España
CATEGORIES:Base,Infantil
ORGANIZER;CN="Federaci%C3%B3n Madrile%C3%B1a de Patinaje":MAILTO:info.fmp@fmp.es
END:VEVENT
BEGIN:VEVENT
DTSTART;TZID=Europe/Madrid:20210130T194500
DTEND;TZID=Europe/Madrid:20210130T213000
DTSTAMP:20260419T171428
CREATED:20201123T084346Z
LAST-MODIFIED:20201123T084349Z
UID:1234-1612035900-1612042200@cpalcobendas.com
SUMMARY:20/21 – OK Plata: Sta. Mª del Pilar vs CP Alcobendas
DESCRIPTION:Partido correspondiente a la fase regular de OK Liga Plata Sur 2020-2021
URL:https://cpalcobendas.com/evento/20-21-ok-plata-sta-ma-del-pilar-vs-cp-alcobendas/
LOCATION:Pista 4 Polideportivo José Caballero\, Av. de la Transición Española\, s/n\, Alcobendas\, Madrid\, 28108\, España
CATEGORIES:OK Plata Masculino
ORGANIZER;CN="Federaci%C3%B3n Madrile%C3%B1a de Patinaje":MAILTO:info.fmp@fmp.es
END:VEVENT
BEGIN:VEVENT
DTSTART;TZID=Europe/Madrid:20210130T194500
DTEND;TZID=Europe/Madrid:20210130T210000
DTSTAMP:20260419T171428
CREATED:20201122T114757Z
LAST-MODIFIED:20210123T102457Z
UID:1142-1612035900-1612040400@cpalcobendas.com
SUMMARY:20/21 - 2ª Alevín Grupo 2: Alcorcón B vs Alcobendas D
DESCRIPTION:Encuentro correspondiente a la liga regular de la temporada 2020/2021
URL:https://cpalcobendas.com/evento/20-21-2a-alevin-grupo-2-alcorcon-b-vs-alcobendas-d/
CATEGORIES:Alevín,Base
ATTACH;FMTTYPE=image/jpeg:https://cpalcobendas.com/wp-content/uploads/2020/11/evento-alevin-d.jpg
ORGANIZER;CN="Federaci%C3%B3n Madrile%C3%B1a de Patinaje":MAILTO:info.fmp@fmp.es
END:VEVENT
BEGIN:VEVENT
DTSTART;TZID=Europe/Madrid:20210130T191500
DTEND;TZID=Europe/Madrid:20210130T204500
DTSTAMP:20260419T171428
CREATED:20201121T111338Z
LAST-MODIFIED:20210125T185045Z
UID:1049-1612034100-1612039500@cpalcobendas.com
SUMMARY:20/21 - 1ª Autonómica Masculina Grupo 1: Alcobendas vs Virgen de Europa
DESCRIPTION:Encuentro correspondiente a la liga regular del la temporada 2020/2021
URL:https://cpalcobendas.com/evento/20-21-1a-autonomica-masculina-grupo-1-alcobendas-vs-virgen-de-europa/
LOCATION:Pabellón A José Caballero\, Av. de la Transición Española\, s/n\, Alcobendas\, Madrid\, 28108\, España
CATEGORIES:1ª Autonómica Masculino
ORGANIZER;CN="Federaci%C3%B3n Madrile%C3%B1a de Patinaje":MAILTO:info.fmp@fmp.es
END:VEVENT
BEGIN:VEVENT
DTSTART;TZID=Europe/Madrid:20210130T180000
DTEND;TZID=Europe/Madrid:20210130T191500
DTSTAMP:20260419T171428
CREATED:20201202T173907Z
LAST-MODIFIED:20210125T184957Z
UID:1314-1612029600-1612034100@cpalcobendas.com
SUMMARY:20/21 - 2ª Benjamín Grupo C: Alcobendas B vs Alcorcón B
DESCRIPTION:Encuentro correspondiente a la liga regular de la temporada 2020/2021
URL:https://cpalcobendas.com/evento/20-21-2a-benjamin-grupo-c-alcobendas-b-vs-alcorcon-b/
LOCATION:Pabellón A José Caballero\, Av. de la Transición Española\, s/n\, Alcobendas\, Madrid\, 28108\, España
CATEGORIES:Base,Benjamín
ATTACH;FMTTYPE=image/jpeg:https://cpalcobendas.com/wp-content/uploads/2020/11/evento-benjamin-b.jpg
ORGANIZER;CN="Federaci%C3%B3n Madrile%C3%B1a de Patinaje":MAILTO:info.fmp@fmp.es
END:VEVENT
BEGIN:VEVENT
DTSTART;TZID=Europe/Madrid:20210130T170000
DTEND;TZID=Europe/Madrid:20210130T183000
DTSTAMP:20260419T171428
CREATED:20201121T104042Z
LAST-MODIFIED:20210129T092547Z
UID:1017-1612026000-1612031400@cpalcobendas.com
SUMMARY:20/21 - 1ª Juvenil Grupo A: Sta. Mª del Pilar A vs Alcobendas
DESCRIPTION:Encuentro correspondiente a la liga regular de la temporada 2020/2021
URL:https://cpalcobendas.com/evento/20-21-1a-juvenil-grupo-a-sta-ma-del-pilar-a-vs-alcobendas/
CATEGORIES:Base,Juvenil
ORGANIZER;CN="Federaci%C3%B3n Madrile%C3%B1a de Patinaje":MAILTO:info.fmp@fmp.es
END:VEVENT
BEGIN:VEVENT
DTSTART;TZID=Europe/Madrid:20210130T134500
DTEND;TZID=Europe/Madrid:20210130T151500
DTSTAMP:20260419T171428
CREATED:20201121T101955Z
LAST-MODIFIED:20210126T144039Z
UID:994-1612014300-1612019700@cpalcobendas.com
SUMMARY:20/21 - 1ª Infantil Grupo A: Rivas A vs Alcobendas A
DESCRIPTION:Encuentro correspondiente a la liga regular 2020/2021
URL:https://cpalcobendas.com/evento/20-21-1a-infantil-grupo-a-rivas-a-vs-alcobendas-a/
LOCATION:Pista 4 Polideportivo José Caballero\, Av. de la Transición Española\, s/n\, Alcobendas\, Madrid\, 28108\, España
CATEGORIES:Base,Infantil
ATTACH;FMTTYPE=image/jpeg:https://cpalcobendas.com/wp-content/uploads/2020/11/evento-infantil-a.jpg
ORGANIZER;CN="Federaci%C3%B3n Madrile%C3%B1a de Patinaje":MAILTO:info.fmp@fmp.es
END:VEVENT
BEGIN:VEVENT
DTSTART;TZID=Europe/Madrid:20210130T123000
DTEND;TZID=Europe/Madrid:20210130T134500
DTSTAMP:20260419T171428
CREATED:20201114T191032Z
LAST-MODIFIED:20210123T102653Z
UID:774-1612009800-1612014300@cpalcobendas.com
SUMMARY:20/21 - 1ª Alevín Grupo A: Alcobendas B vs Rivas Las Lagunas A
DESCRIPTION:Correspondiente al Campeonato Autonómico 1ª División Alevín Grupo A
URL:https://cpalcobendas.com/evento/alevin-grupo-a-cp-alcobendas-b-vs-cp-rivas-las-lagunas-a/
LOCATION:Pista 4 Polideportivo José Caballero\, Av. de la Transición Española\, s/n\, Alcobendas\, Madrid\, 28108\, España
CATEGORIES:Alevín,Base
ATTACH;FMTTYPE=image/jpeg:https://cpalcobendas.com/wp-content/uploads/2020/11/evento-alevin-b.jpg
ORGANIZER;CN="Federaci%C3%B3n Madrile%C3%B1a de Patinaje":MAILTO:info.fmp@fmp.es
END:VEVENT
BEGIN:VEVENT
DTSTART;TZID=Europe/Madrid:20210130T113000
DTEND;TZID=Europe/Madrid:20210130T130000
DTSTAMP:20260419T171428
CREATED:20201122T113249Z
LAST-MODIFIED:20210123T102859Z
UID:1128-1612006200-1612011600@cpalcobendas.com
SUMMARY:20/21 - 2ª Infantil Grupo A: Sta. Mª la Blanca vs Alcobendas C
DESCRIPTION:Encuentro correspondiente a la liga regular de la temporada 2020/2021
URL:https://cpalcobendas.com/evento/20-21-2a-infantil-grupo-a-sta-ma-la-blanca-vs-alcobendas-c/
CATEGORIES:Base,Infantil
ORGANIZER;CN="Federaci%C3%B3n Madrile%C3%B1a de Patinaje":MAILTO:info.fmp@fmp.es
END:VEVENT
BEGIN:VEVENT
DTSTART;TZID=Europe/Madrid:20210130T111500
DTEND;TZID=Europe/Madrid:20210130T123000
DTSTAMP:20260419T171428
CREATED:20201204T100153Z
LAST-MODIFIED:20210123T101227Z
UID:1361-1612005300-1612009800@cpalcobendas.com
SUMMARY:20/21 - 2ª Prebenjamín Grupo A: Alcobendas vs Sta. Mª la Blanca
DESCRIPTION:Encuentro correspondiente a la liga regular de la temporada 2020/2021
URL:https://cpalcobendas.com/evento/20-21-2a-prebenjamin-grupo-a-coslada-b-vs-alcobendas/
CATEGORIES:Base,Prebenjamín
ORGANIZER;CN="Federaci%C3%B3n Madrile%C3%B1a de Patinaje":MAILTO:info.fmp@fmp.es
END:VEVENT
BEGIN:VEVENT
DTSTART;TZID=Europe/Madrid:20210130T104500
DTEND;TZID=Europe/Madrid:20210130T120000
DTSTAMP:20260419T171428
CREATED:20201122T120101Z
LAST-MODIFIED:20210123T102547Z
UID:1157-1612003500-1612008000@cpalcobendas.com
SUMMARY:20/21 - 2ª Alevín Grupo 1: Alcorcón C vs Alcobendas C
DESCRIPTION:Encuentro correspondiente a la liga regular de la temporada 2020/2021
URL:https://cpalcobendas.com/evento/20-21-2a-alevin-grupo-1-alcorcon-c-vs-alcobendas-c/
CATEGORIES:Alevín,Base
ATTACH;FMTTYPE=image/jpeg:https://cpalcobendas.com/wp-content/uploads/2020/11/evento-alevin-c.jpg
ORGANIZER;CN="Federaci%C3%B3n Madrile%C3%B1a de Patinaje":MAILTO:info.fmp@fmp.es
END:VEVENT
BEGIN:VEVENT
DTSTART;TZID=Europe/Madrid:20210130T100000
DTEND;TZID=Europe/Madrid:20210130T111500
DTSTAMP:20260419T171428
CREATED:20201202T180023Z
LAST-MODIFIED:20210123T102318Z
UID:1340-1612000800-1612005300@cpalcobendas.com
SUMMARY:20/21 - 1ª Benjamín: Alcobendas A vs Tres Cantos A
DESCRIPTION:Encuentro correspondiente a la liga regular de la temporada 2020/2021
URL:https://cpalcobendas.com/evento/20-21-1a-benjamin-grupo-a-alcobendas-a-vs-tres-cantos-a/
LOCATION:Pista 4 Polideportivo José Caballero\, Av. de la Transición Española\, s/n\, Alcobendas\, Madrid\, 28108\, España
CATEGORIES:Base,Benjamín
ATTACH;FMTTYPE=image/jpeg:https://cpalcobendas.com/wp-content/uploads/2020/11/evento-benjamin-a.jpg
ORGANIZER;CN="Federaci%C3%B3n Madrile%C3%B1a de Patinaje":MAILTO:info.fmp@fmp.es
END:VEVENT
BEGIN:VEVENT
DTSTART;TZID=Europe/Madrid:20210123T200000
DTEND;TZID=Europe/Madrid:20210123T220000
DTSTAMP:20260419T171428
CREATED:20201114T193012Z
LAST-MODIFIED:20210120T123536Z
UID:785-1611432000-1611439200@cpalcobendas.com
SUMMARY:20/21 - OK Plata: CP Alcobendas vs CHP Sant Feliu
DESCRIPTION:Partido correspondiente a la fase regular de OK Liga Plata Sur 2020-2021
URL:https://cpalcobendas.com/evento/ok-plata-cp-alcobendas-vs-chp-sant-feliu/
LOCATION:Pabellón A José Caballero\, Av. de la Transición Española\, s/n\, Alcobendas\, Madrid\, 28108\, España
CATEGORIES:OK Plata Masculino
ORGANIZER;CN="Real Federaci%C3%B3n Espa%C3%B1ola de Patinaje":MAILTO:mad@fep.es
END:VEVENT
BEGIN:VEVENT
DTSTART;TZID=Europe/Madrid:20210123T124500
DTEND;TZID=Europe/Madrid:20210123T140000
DTSTAMP:20260419T171428
CREATED:20201202T175731Z
LAST-MODIFIED:20210122T103946Z
UID:1337-1611405900-1611410400@cpalcobendas.com
SUMMARY:20/21 - 1ª Benjamín: Aluche A vs Alcobendas A
DESCRIPTION:Encuentro correspondiente a la liga regular de la temporada 2020/2021
URL:https://cpalcobendas.com/evento/20-21-1a-benjamin-grupo-a-aluche-a-vs-alcobendas-a/
CATEGORIES:Base,Benjamín
ATTACH;FMTTYPE=image/jpeg:https://cpalcobendas.com/wp-content/uploads/2020/11/evento-benjamin-a.jpg
ORGANIZER;CN="Federaci%C3%B3n Madrile%C3%B1a de Patinaje":MAILTO:info.fmp@fmp.es
END:VEVENT
BEGIN:VEVENT
DTSTART;TZID=Europe/Madrid:20210116T200000
DTEND;TZID=Europe/Madrid:20210116T220000
DTSTAMP:20260419T171428
CREATED:20201114T193010Z
LAST-MODIFIED:20201123T083055Z
UID:784-1610827200-1610834400@cpalcobendas.com
SUMMARY:20/21 - OK Plata: CP Alcobendas vs Barça
DESCRIPTION:Partido correspondiente a la fase regular de OK Liga Plata Sur 2020-2021
URL:https://cpalcobendas.com/evento/ok-plata-cp-alcobendas-vs-barca/
LOCATION:Pabellón A José Caballero\, Av. de la Transición Española\, s/n\, Alcobendas\, Madrid\, 28108\, España
CATEGORIES:OK Plata Masculino
ORGANIZER;CN="Real Federaci%C3%B3n Espa%C3%B1ola de Patinaje":MAILTO:mad@fep.es
END:VEVENT
BEGIN:VEVENT
DTSTART;TZID=Europe/Madrid:20210116T173000
DTEND;TZID=Europe/Madrid:20210116T184500
DTSTAMP:20260419T171428
CREATED:20201122T114529Z
LAST-MODIFIED:20210115T094212Z
UID:1140-1610818200-1610822700@cpalcobendas.com
SUMMARY:20/21 - 2ª Alevín Grupo 2: Vettonia vs Alcobendas D
DESCRIPTION:Encuentro correspondiente a la liga regular de la temporada 2020/2021
URL:https://cpalcobendas.com/evento/20-21-2a-alevin-grupo-2-vettonia-vs-alcobendas-d/
CATEGORIES:Alevín,Base
ATTACH;FMTTYPE=image/jpeg:https://cpalcobendas.com/wp-content/uploads/2020/11/evento-alevin-d.jpg
ORGANIZER;CN="Federaci%C3%B3n Madrile%C3%B1a de Patinaje":MAILTO:info.fmp@fmp.es
END:VEVENT
BEGIN:VEVENT
DTSTART;TZID=Europe/Madrid:20210116T123000
DTEND;TZID=Europe/Madrid:20210116T134500
DTSTAMP:20260419T171428
CREATED:20201202T175451Z
LAST-MODIFIED:20210115T093842Z
UID:1334-1610800200-1610804700@cpalcobendas.com
SUMMARY:20/21 - 1ª Benjamín: Alcobendas A vs Rivas A
DESCRIPTION:Encuentro correspondiente a la liga regular de la temporada 2020/2021
URL:https://cpalcobendas.com/evento/20-21-1a-benjamin-grupo-a-alcobendas-a-vs-rivas-a/
LOCATION:Pista 4 Polideportivo José Caballero\, Av. de la Transición Española\, s/n\, Alcobendas\, Madrid\, 28108\, España
CATEGORIES:Base,Benjamín
ATTACH;FMTTYPE=image/jpeg:https://cpalcobendas.com/wp-content/uploads/2020/11/evento-benjamin-a.jpg
ORGANIZER;CN="Federaci%C3%B3n Madrile%C3%B1a de Patinaje":MAILTO:info.fmp@fmp.es
END:VEVENT
BEGIN:VEVENT
DTSTART;TZID=Europe/Madrid:20201220T123000
DTEND;TZID=Europe/Madrid:20201220T140000
DTSTAMP:20260419T171428
CREATED:20201121T112339Z
LAST-MODIFIED:20201218T102907Z
UID:1064-1608467400-1608472800@cpalcobendas.com
SUMMARY:20/21 - 1ª Autonómica Femenina: Alcobendas vs Alcalá
DESCRIPTION:Encuentro correspondiente a la primera fase de la liga de la temporada 2020/2021
URL:https://cpalcobendas.com/evento/20-21-1a-autonomica-femenina-alcobendas-vs-alcala/
LOCATION:Pista 4 Polideportivo José Caballero\, Av. de la Transición Española\, s/n\, Alcobendas\, Madrid\, 28108\, España
CATEGORIES:1ª Autonómica Femenino
ATTACH;FMTTYPE=image/jpeg:https://cpalcobendas.com/wp-content/uploads/2020/11/evento-femenino-senior.jpg
ORGANIZER;CN="Federaci%C3%B3n Madrile%C3%B1a de Patinaje":MAILTO:info.fmp@fmp.es
END:VEVENT
BEGIN:VEVENT
DTSTART;TZID=Europe/Madrid:20201220T110000
DTEND;TZID=Europe/Madrid:20201220T123000
DTSTAMP:20260419T171428
CREATED:20201121T105614Z
LAST-MODIFIED:20201218T104034Z
UID:1028-1608462000-1608467400@cpalcobendas.com
SUMMARY:20/21 - Junior Grupo B: Alcobendas vs Majadahonda
DESCRIPTION:Encuentro correspondiente a la liga regular de la temporada 2020/2021
URL:https://cpalcobendas.com/evento/20-21-junior-grupo-b-alcobendas-vs-majadahonda/
LOCATION:Pista 4 Polideportivo José Caballero\, Av. de la Transición Española\, s/n\, Alcobendas\, Madrid\, 28108\, España
CATEGORIES:Base,Junior
ORGANIZER;CN="Federaci%C3%B3n Madrile%C3%B1a de Patinaje":MAILTO:info.fmp@fmp.es
END:VEVENT
BEGIN:VEVENT
DTSTART;TZID=Europe/Madrid:20201219T183000
DTEND;TZID=Europe/Madrid:20201219T200000
DTSTAMP:20260419T171428
CREATED:20201122T112736Z
LAST-MODIFIED:20201218T103909Z
UID:1125-1608402600-1608408000@cpalcobendas.com
SUMMARY:20/21 - 2ª Infantil Grupo A: Alcobendas C vs Tres Cantos B
DESCRIPTION:Encuentro correspondiente a la liga regular de la temporada 2020/2021
URL:https://cpalcobendas.com/evento/20-21-2a-infantil-grupo-a-alcobendas-c-vs-tres-cantos-b/
LOCATION:Pabellón A José Caballero\, Av. de la Transición Española\, s/n\, Alcobendas\, Madrid\, 28108\, España
CATEGORIES:Base,Infantil
ORGANIZER;CN="Federaci%C3%B3n Madrile%C3%B1a de Patinaje":MAILTO:info.fmp@fmp.es
END:VEVENT
BEGIN:VEVENT
DTSTART;TZID=Europe/Madrid:20201219T171500
DTEND;TZID=Europe/Madrid:20201219T183000
DTSTAMP:20260419T171428
CREATED:20201218T103734Z
LAST-MODIFIED:20201218T103734Z
UID:1391-1608398100-1608402600@cpalcobendas.com
SUMMARY:20/21 – 2ª Alevín Grupo 2: Alcobendas D vs Sta. Mª del Pilar C
DESCRIPTION:Encuentro correspondiente a la liga regular de la temporada 2020/2021
URL:https://cpalcobendas.com/evento/20-21-2a-alevin-grupo-2-alcobendas-d-vs-sta-ma-del-pilar-c/
LOCATION:Pabellón A José Caballero\, Av. de la Transición Española\, s/n\, Alcobendas\, Madrid\, 28108\, España
CATEGORIES:Alevín,Base
ATTACH;FMTTYPE=image/jpeg:https://cpalcobendas.com/wp-content/uploads/2020/11/evento-alevin-d.jpg
ORGANIZER;CN="Federaci%C3%B3n Madrile%C3%B1a de Patinaje":MAILTO:info.fmp@fmp.es
END:VEVENT
BEGIN:VEVENT
DTSTART;TZID=Europe/Madrid:20201219T113000
DTEND;TZID=Europe/Madrid:20201219T124500
DTSTAMP:20260419T171428
CREATED:20201122T115736Z
LAST-MODIFIED:20201218T103310Z
UID:1154-1608377400-1608381900@cpalcobendas.com
SUMMARY:20/21 - 2ª Alevín Grupo 1: Alcobendas C vs Boadilla
DESCRIPTION:Encuentro correspondiente a la liga regular de la temporada 2020/2021
URL:https://cpalcobendas.com/evento/20-21-2a-alevin-grupo-1-alcobendas-c-vs-boadilla/
LOCATION:Pista 4 Polideportivo José Caballero\, Av. de la Transición Española\, s/n\, Alcobendas\, Madrid\, 28108\, España
CATEGORIES:Alevín,Base
ATTACH;FMTTYPE=image/jpeg:https://cpalcobendas.com/wp-content/uploads/2020/11/evento-alevin-c.jpg
ORGANIZER;CN="Federaci%C3%B3n Madrile%C3%B1a de Patinaje":MAILTO:info.fmp@fmp.es
END:VEVENT
BEGIN:VEVENT
DTSTART;TZID=Europe/Madrid:20201219T100000
DTEND;TZID=Europe/Madrid:20201219T113000
DTSTAMP:20260419T171428
CREATED:20201121T102455Z
LAST-MODIFIED:20201218T103200Z
UID:1002-1608372000-1608377400@cpalcobendas.com
SUMMARY:20/21 - 1ª Infantil Grupo B: Alcobendas B vs Las Rozas A
DESCRIPTION:Encuentro correspondiente a la liga regular de la temporada 2020/2021
URL:https://cpalcobendas.com/evento/20-21-1a-infantil-grupo-b-alcobendas-b-vs-las-rozas-a/
LOCATION:Pista 4 Polideportivo José Caballero\, Av. de la Transición Española\, s/n\, Alcobendas\, Madrid\, 28108\, España
CATEGORIES:Base,Infantil
ATTACH;FMTTYPE=image/jpeg:https://cpalcobendas.com/wp-content/uploads/2020/11/evento-infantil-b.jpg
ORGANIZER;CN="Federaci%C3%B3n Madrile%C3%B1a de Patinaje":MAILTO:info.fmp@fmp.es
END:VEVENT
BEGIN:VEVENT
DTSTART;TZID=Europe/Madrid:20201218T210000
DTEND;TZID=Europe/Madrid:20201218T220000
DTSTAMP:20260419T171428
CREATED:20201123T084343Z
LAST-MODIFIED:20201123T084347Z
UID:1233-1608325200-1608328800@cpalcobendas.com
SUMMARY:20/21 – OK Plata: Rivas H20 vs CP Alcobendas
DESCRIPTION:Partido correspondiente a la fase regular de OK Liga Plata Sur 2020-2021
URL:https://cpalcobendas.com/evento/20-21-ok-plata-rivas-h20-vs-cp-alcobendas/
LOCATION:Pista 4 Polideportivo José Caballero\, Av. de la Transición Española\, s/n\, Alcobendas\, Madrid\, 28108\, España
CATEGORIES:OK Plata Masculino
ORGANIZER;CN="Federaci%C3%B3n Madrile%C3%B1a de Patinaje":MAILTO:info.fmp@fmp.es
END:VEVENT
BEGIN:VEVENT
DTSTART;TZID=Europe/Madrid:20201218T203000
DTEND;TZID=Europe/Madrid:20201218T220000
DTSTAMP:20260419T171428
CREATED:20201121T112151Z
LAST-MODIFIED:20201218T103011Z
UID:1062-1608323400-1608328800@cpalcobendas.com
SUMMARY:20/21 - 1ª Autonómica Femenina: Alcobendas vs Sta. Mª del Pilar
DESCRIPTION:Encuentro correspondiente a la primera fase de la liga de la temporada 2020/2021
URL:https://cpalcobendas.com/evento/20-21-1a-autonomica-femenina-alcobendas-vs-sta-ma-del-pilar/
LOCATION:Pabellón A José Caballero\, Av. de la Transición Española\, s/n\, Alcobendas\, Madrid\, 28108\, España
CATEGORIES:1ª Autonómica Femenino
ATTACH;FMTTYPE=image/jpeg:https://cpalcobendas.com/wp-content/uploads/2020/11/evento-femenino-senior.jpg
ORGANIZER;CN="Federaci%C3%B3n Madrile%C3%B1a de Patinaje":MAILTO:info.fmp@fmp.es
END:VEVENT
BEGIN:VEVENT
DTSTART;TZID=Europe/Madrid:20201213T121500
DTEND;TZID=Europe/Madrid:20201213T140000
DTSTAMP:20260419T171428
CREATED:20201123T084336Z
LAST-MODIFIED:20201202T151438Z
UID:1232-1607861700-1607868000@cpalcobendas.com
SUMMARY:20/21 – OK Plata: Arenys de Munt vs CP Alcobendas
DESCRIPTION:Partido correspondiente a la fase regular de OK Liga Plata Sur 2020-2021
URL:https://cpalcobendas.com/evento/20-21-ok-plata-arenys-de-munt-vs-cp-alcobendas/
LOCATION:Pista 4 Polideportivo José Caballero\, Av. de la Transición Española\, s/n\, Alcobendas\, Madrid\, 28108\, España
CATEGORIES:OK Plata Masculino
ORGANIZER;CN="Real Federaci%C3%B3n Espa%C3%B1ola de Patinaje":MAILTO:mad@fep.es
END:VEVENT
BEGIN:VEVENT
DTSTART;TZID=Europe/Madrid:20201213T114500
DTEND;TZID=Europe/Madrid:20201213T131500
DTSTAMP:20260419T171428
CREATED:20201121T112300Z
LAST-MODIFIED:20201211T093847Z
UID:1063-1607859900-1607865300@cpalcobendas.com
SUMMARY:20/21 - 1ª Autonómica Femenina: Alameda de Osuna vs Alcobendas
DESCRIPTION:Encuentro correspondiente a la primera fase de la liga de la temporada 2020/2021
URL:https://cpalcobendas.com/evento/20-21-1a-autonomica-femenina-alameda-de-osuna-vs-alcobendas/
CATEGORIES:1ª Autonómica Femenino
ATTACH;FMTTYPE=image/jpeg:https://cpalcobendas.com/wp-content/uploads/2020/11/evento-femenino-senior.jpg
ORGANIZER;CN="Federaci%C3%B3n Madrile%C3%B1a de Patinaje":MAILTO:info.fmp@fmp.es
END:VEVENT
END:VCALENDAR