BEGIN:VCALENDAR
VERSION:2.0
PRODID:-//Club Patín Alcobendas - ECPv6.15.20//NONSGML v1.0//EN
CALSCALE:GREGORIAN
METHOD:PUBLISH
X-WR-CALNAME:Club Patín Alcobendas
X-ORIGINAL-URL:https://cpalcobendas.com
X-WR-CALDESC:Eventos para Club Patín Alcobendas
REFRESH-INTERVAL;VALUE=DURATION:PT1H
X-Robots-Tag:noindex
X-PUBLISHED-TTL:PT1H
BEGIN:VTIMEZONE
TZID:Europe/Madrid
BEGIN:DAYLIGHT
TZOFFSETFROM:+0100
TZOFFSETTO:+0200
TZNAME:CEST
DTSTART:20190331T010000
END:DAYLIGHT
BEGIN:STANDARD
TZOFFSETFROM:+0200
TZOFFSETTO:+0100
TZNAME:CET
DTSTART:20191027T010000
END:STANDARD
BEGIN:DAYLIGHT
TZOFFSETFROM:+0100
TZOFFSETTO:+0200
TZNAME:CEST
DTSTART:20200329T010000
END:DAYLIGHT
BEGIN:STANDARD
TZOFFSETFROM:+0200
TZOFFSETTO:+0100
TZNAME:CET
DTSTART:20201025T010000
END:STANDARD
BEGIN:DAYLIGHT
TZOFFSETFROM:+0100
TZOFFSETTO:+0200
TZNAME:CEST
DTSTART:20210328T010000
END:DAYLIGHT
BEGIN:STANDARD
TZOFFSETFROM:+0200
TZOFFSETTO:+0100
TZNAME:CET
DTSTART:20211031T010000
END:STANDARD
END:VTIMEZONE
BEGIN:VEVENT
DTSTART;TZID=Europe/Madrid:20201207T110000
DTEND;TZID=Europe/Madrid:20201207T123000
DTSTAMP:20260420T061146
CREATED:20201127T095303Z
LAST-MODIFIED:20201205T100102Z
UID:1287-1607338800-1607344200@cpalcobendas.com
SUMMARY:20/21 - Junior Grupo B: Alcobendas - Virgen de Europa
DESCRIPTION:Encuentro correspondiente a la liga regular de la temporada 2020/2021
URL:https://cpalcobendas.com/evento/20-21-junior-grupo-b-alcobendas-virgen-de-europa/
LOCATION:Madrid
CATEGORIES:Base,Junior
ORGANIZER;CN="Federaci%C3%B3n Madrile%C3%B1a de Patinaje":MAILTO:info.fmp@fmp.es
END:VEVENT
BEGIN:VEVENT
DTSTART;TZID=Europe/Madrid:20201207T103000
DTEND;TZID=Europe/Madrid:20201207T120000
DTSTAMP:20260420T061146
CREATED:20201121T101625Z
LAST-MODIFIED:20201205T100013Z
UID:991-1607337000-1607342400@cpalcobendas.com
SUMMARY:20/21 - 1ª Infantil Grupo A: Alcobendas A vs Rivas A
DESCRIPTION:Encuentro correspondiente a la liga regular 2020/2021
URL:https://cpalcobendas.com/evento/20-21-1a-infantil-grupo-a-alcobendas-a-vs-rivas-a/
LOCATION:Madrid
CATEGORIES:Base,Infantil
ATTACH;FMTTYPE=image/jpeg:https://cpalcobendas.com/wp-content/uploads/2020/11/evento-infantil-a.jpg
ORGANIZER;CN="Federaci%C3%B3n Madrile%C3%B1a de Patinaje":MAILTO:info.fmp@fmp.es
END:VEVENT
BEGIN:VEVENT
DTSTART;TZID=Europe/Madrid:20201206T120000
DTEND;TZID=Europe/Madrid:20201206T133000
DTSTAMP:20260420T061146
CREATED:20201127T095044Z
LAST-MODIFIED:20201204T104110Z
UID:1285-1607256000-1607261400@cpalcobendas.com
SUMMARY:20/21 - 1ª Juvenil Grupo A: Coslada vs Alcobendas A
DESCRIPTION:Encuentro correspondiente a la liga regular de la temporada 2020/2021
URL:https://cpalcobendas.com/evento/20-21-1a-juvenil-grupo-a-coslada-vs-alcobendas-a/
LOCATION:Madrid
CATEGORIES:Base,Juvenil
ORGANIZER;CN="Federaci%C3%B3n Madrile%C3%B1a de Patinaje":MAILTO:info.fmp@fmp.es
END:VEVENT
BEGIN:VEVENT
DTSTART;TZID=Europe/Madrid:20201205T200000
DTEND;TZID=Europe/Madrid:20201205T220000
DTSTAMP:20260420T061146
CREATED:20201114T193007Z
LAST-MODIFIED:20201201T235536Z
UID:783-1607198400-1607205600@cpalcobendas.com
SUMMARY:20/21 - OK Plata: CP Alcobendas vs Pas Alcoi
DESCRIPTION:Partido correspondiente a la fase regular de OK Liga Plata Sur 2020-2021
URL:https://cpalcobendas.com/evento/ok-plata-cp-alcobendas-vs-pas-alcoi/
LOCATION:Pabellón A José Caballero\, Av. de la Transición Española\, s/n\, Alcobendas\, Madrid\, 28108\, España
CATEGORIES:OK Plata Masculino
ORGANIZER;CN="Real Federaci%C3%B3n Espa%C3%B1ola de Patinaje":MAILTO:mad@fep.es
END:VEVENT
BEGIN:VEVENT
DTSTART;TZID=Europe/Madrid:20201205T171500
DTEND;TZID=Europe/Madrid:20201205T184500
DTSTAMP:20260420T061146
CREATED:20201127T094621Z
LAST-MODIFIED:20201204T103911Z
UID:1278-1607188500-1607193900@cpalcobendas.com
SUMMARY:20/21 - 1ª Infantil Grupo B: Majadahonda vs Alcobendas B
DESCRIPTION:Encuentro correspondiente a la liga regular de la temporada 2020/2021
URL:https://cpalcobendas.com/evento/20-21-1a-infantil-grupo-b-majadahonda-vs-alcobendas-b/
LOCATION:Madrid
CATEGORIES:Base,Infantil
ATTACH;FMTTYPE=image/jpeg:https://cpalcobendas.com/wp-content/uploads/2020/11/evento-infantil-b.jpg
ORGANIZER;CN="Federaci%C3%B3n Madrile%C3%B1a de Patinaje":MAILTO:info.fmp@fmp.es
END:VEVENT
BEGIN:VEVENT
DTSTART;TZID=Europe/Madrid:20201205T160000
DTEND;TZID=Europe/Madrid:20201205T171500
DTSTAMP:20260420T061146
CREATED:20201127T094134Z
LAST-MODIFIED:20201204T103740Z
UID:1275-1607184000-1607188500@cpalcobendas.com
SUMMARY:20/21 - 2ª Alevín Grupo 2: Majadahonda vs Alcobendas D
DESCRIPTION:Encuentro correspondiente a la liga regular de la temporada 2020/2021
URL:https://cpalcobendas.com/evento/20-21-2a-alevin-grupo-2-majadahonda-vs-alcobendas-d/
LOCATION:Madrid
CATEGORIES:Alevín,Base
ATTACH;FMTTYPE=image/jpeg:https://cpalcobendas.com/wp-content/uploads/2020/11/evento-alevin-d.jpg
ORGANIZER;CN="Federaci%C3%B3n Madrile%C3%B1a de Patinaje":MAILTO:info.fmp@fmp.es
END:VEVENT
BEGIN:VEVENT
DTSTART;TZID=Europe/Madrid:20201129T123000
DTEND;TZID=Europe/Madrid:20201129T140000
DTSTAMP:20260420T061146
CREATED:20201121T110742Z
LAST-MODIFIED:20201121T110742Z
UID:1044-1606653000-1606658400@cpalcobendas.com
SUMMARY:20/21 - 1ª Autonómica Masculina Grupo 1: Virgen de Europa vs Alcobendas
DESCRIPTION:Encuentro correspondiente a la liga regular del la temporada 2020/2021
URL:https://cpalcobendas.com/evento/20-21-1a-autonomica-masculina-grupo-1-virgen-de-europa-vs-alcobendas/
LOCATION:Madrid
CATEGORIES:1ª Autonómica Masculino
ORGANIZER;CN="Federaci%C3%B3n Madrile%C3%B1a de Patinaje":MAILTO:info.fmp@fmp.es
END:VEVENT
BEGIN:VEVENT
DTSTART;TZID=Europe/Madrid:20201129T120000
DTEND;TZID=Europe/Madrid:20201129T133000
DTSTAMP:20260420T061146
CREATED:20201121T094124Z
LAST-MODIFIED:20201121T094124Z
UID:966-1606651200-1606656600@cpalcobendas.com
SUMMARY:20/21 – 1ª Alevín Grupo A: Rivas A vs Alcobendas B
DESCRIPTION:Correspondiente al Campeonato Autonómico 1ª División Alevín Grupo A
URL:https://cpalcobendas.com/evento/20-21-1a-alevin-grupo-a-rivas-a-vs-alcobendas-b/
LOCATION:Madrid
CATEGORIES:Alevín,Base
ATTACH;FMTTYPE=image/jpeg:https://cpalcobendas.com/wp-content/uploads/2020/11/evento-alevin-b.jpg
ORGANIZER;CN="Federaci%C3%B3n Madrile%C3%B1a de Patinaje":MAILTO:info.fmp@fmp.es
END:VEVENT
BEGIN:VEVENT
DTSTART;TZID=Europe/Madrid:20201128T170000
DTEND;TZID=Europe/Madrid:20201128T190000
DTSTAMP:20260420T061146
CREATED:20201123T011439Z
LAST-MODIFIED:20201127T124932Z
UID:1197-1606582800-1606590000@cpalcobendas.com
SUMMARY:20/21 OK Plata: HC Burguillos del cerro vs CP Alcobendas
DESCRIPTION:Partido correspondiente a la fase regular de OK Liga Plata Sur 2020-2021
URL:https://cpalcobendas.com/evento/20-21-ok-plata-hc-burguillos-del-cerro-vs-cp-alcobendas/
LOCATION:Madrid
CATEGORIES:OK Plata Masculino
ORGANIZER;CN="Real Federaci%C3%B3n Espa%C3%B1ola de Patinaje":MAILTO:mad@fep.es
END:VEVENT
BEGIN:VEVENT
DTSTART;TZID=Europe/Madrid:20201128T121500
DTEND;TZID=Europe/Madrid:20201128T134500
DTSTAMP:20260420T061146
CREATED:20201122T112445Z
LAST-MODIFIED:20201125T164211Z
UID:1123-1606565700-1606571100@cpalcobendas.com
SUMMARY:20/21 - 2ª Infantil Grupo A: Alcobendas C vs Sta. Mª la Blanca
DESCRIPTION:Encuentro correspondiente a la liga regular de la temporada 2020/2021
URL:https://cpalcobendas.com/evento/20-21-2a-infantil-grupo-a-alcobendas-c-vs-sta-ma-la-blanca/
LOCATION:Ciudad Deportiva Valdelasfuentes\, Calle de Francisco Largo Caballero\, s/n\, Alcobendas\, Madrid\, 28100\, España
CATEGORIES:Base,Infantil
ORGANIZER;CN="Federaci%C3%B3n Madrile%C3%B1a de Patinaje":MAILTO:info.fmp@fmp.es
END:VEVENT
BEGIN:VEVENT
DTSTART;TZID=Europe/Madrid:20201128T110000
DTEND;TZID=Europe/Madrid:20201128T121500
DTSTAMP:20260420T061146
CREATED:20201122T115551Z
LAST-MODIFIED:20201125T164247Z
UID:1152-1606561200-1606565700@cpalcobendas.com
SUMMARY:20/21 - 2ª Alevín Grupo 1: Alcobendas C vs Rivas C
DESCRIPTION:Encuentro correspondiente a la liga regular de la temporada 2020/2021
URL:https://cpalcobendas.com/evento/20-21-2a-alevin-grupo-1-alcobendas-c-vs-rivas-c/
LOCATION:Ciudad Deportiva Valdelasfuentes\, Calle de Francisco Largo Caballero\, s/n\, Alcobendas\, Madrid\, 28100\, España
CATEGORIES:Alevín,Base
ATTACH;FMTTYPE=image/jpeg:https://cpalcobendas.com/wp-content/uploads/2020/11/evento-alevin-c.jpg
ORGANIZER;CN="Federaci%C3%B3n Madrile%C3%B1a de Patinaje":MAILTO:info.fmp@fmp.es
END:VEVENT
BEGIN:VEVENT
DTSTART;TZID=Europe/Madrid:20201122T093000
DTEND;TZID=Europe/Madrid:20201122T110000
DTSTAMP:20260420T061146
CREATED:20201121T113846Z
LAST-MODIFIED:20201121T114103Z
UID:1071-1606037400-1606042800@cpalcobendas.com
SUMMARY:20/21 - Sub-14 Femenina: Tres Cantos vs Alcobendas
DESCRIPTION:Encuentro correspondiente a la liga regular de la temporada 2020/2021
URL:https://cpalcobendas.com/evento/20-21-sub-14-femenina-tres-cantos-vs-alcobendas/
LOCATION:Madrid
CATEGORIES:Base,Sub14 Femenino
ATTACH;FMTTYPE=image/jpeg:https://cpalcobendas.com/wp-content/uploads/2020/11/evento-femenino-sub-14.jpg
ORGANIZER;CN="Federaci%C3%B3n Madrile%C3%B1a de Patinaje":MAILTO:info.fmp@fmp.es
END:VEVENT
BEGIN:VEVENT
DTSTART;TZID=Europe/Madrid:20201122T093000
DTEND;TZID=Europe/Madrid:20201122T110000
DTSTAMP:20260420T061146
CREATED:20201121T102408Z
LAST-MODIFIED:20201121T102408Z
UID:1001-1606037400-1606042800@cpalcobendas.com
SUMMARY:20/21 - 1ª Infantil Grupo B: Alcobendas B vs Alameda de Osuna A
DESCRIPTION:Encuentro correspondiente a la liga regular de la temporada 2020/2021
URL:https://cpalcobendas.com/evento/20-21-1a-infantil-grupo-b-alcobendas-b-vs-alameda-de-osuna-a/
LOCATION:Pabellón A José Caballero\, Av. de la Transición Española\, s/n\, Alcobendas\, Madrid\, 28108\, España
CATEGORIES:Base,Infantil
ATTACH;FMTTYPE=image/jpeg:https://cpalcobendas.com/wp-content/uploads/2020/11/evento-infantil-b.jpg
ORGANIZER;CN="Federaci%C3%B3n Madrile%C3%B1a de Patinaje":MAILTO:info.fmp@fmp.es
END:VEVENT
BEGIN:VEVENT
DTSTART;TZID=Europe/Madrid:20201121T200000
DTEND;TZID=Europe/Madrid:20201121T220000
DTSTAMP:20260420T061146
CREATED:20201114T193003Z
LAST-MODIFIED:20201121T080325Z
UID:782-1605988800-1605996000@cpalcobendas.com
SUMMARY:20/21-OK Plata: CP Alcobendas vs HC Alpicat
DESCRIPTION:Partido correspondiente a la fase regular de OK Liga Plata Sur 2020-2021
URL:https://cpalcobendas.com/evento/ok-plata-cp-alcobendas-vs-hc-alpicat/
LOCATION:Pabellón A José Caballero\, Av. de la Transición Española\, s/n\, Alcobendas\, Madrid\, 28108\, España
CATEGORIES:OK Plata Masculino
ORGANIZER;CN="Real Federaci%C3%B3n Espa%C3%B1ola de Patinaje":MAILTO:mad@fep.es
END:VEVENT
BEGIN:VEVENT
DTSTART;TZID=Europe/Madrid:20201121T183000
DTEND;TZID=Europe/Madrid:20201121T200000
DTSTAMP:20260420T061146
CREATED:20201121T112038Z
LAST-MODIFIED:20201121T112038Z
UID:1061-1605983400-1605988800@cpalcobendas.com
SUMMARY:20/21 - 1ª Autonómica Femenina: Alcalá vs Alcobendas
DESCRIPTION:Encuentro correspondiente a la primera fase de la liga de la temporada 2020/2021
URL:https://cpalcobendas.com/evento/20-21-1a-autonomica-femenina-alcala-vs-alcobendas/
LOCATION:Madrid
CATEGORIES:1ª Autonómica Femenino
ATTACH;FMTTYPE=image/jpeg:https://cpalcobendas.com/wp-content/uploads/2020/11/evento-femenino-senior.jpg
ORGANIZER;CN="Federaci%C3%B3n Madrile%C3%B1a de Patinaje":MAILTO:info.fmp@fmp.es
END:VEVENT
BEGIN:VEVENT
DTSTART;TZID=Europe/Madrid:20201121T173000
DTEND;TZID=Europe/Madrid:20201121T190000
DTSTAMP:20260420T061146
CREATED:20201121T110544Z
LAST-MODIFIED:20201121T110704Z
UID:1043-1605979800-1605985200@cpalcobendas.com
SUMMARY:20/21 - 1ª Autonómica Masculina Grupo 1: Alcobendas vs Alameda de Osuna
DESCRIPTION:Encuentro correspondiente a la liga regular del la temporada 2020/2021
URL:https://cpalcobendas.com/evento/20-21-1a-autonomica-masculina-grupo-1-alcobendas-alameda-de-osuna/
LOCATION:Pabellón A José Caballero\, Av. de la Transición Española\, s/n\, Alcobendas\, Madrid\, 28108\, España
CATEGORIES:1ª Autonómica Masculino
ORGANIZER;CN="Federaci%C3%B3n Madrile%C3%B1a de Patinaje":MAILTO:info.fmp@fmp.es
END:VEVENT
BEGIN:VEVENT
DTSTART;TZID=Europe/Madrid:20201121T160000
DTEND;TZID=Europe/Madrid:20201121T180000
DTSTAMP:20260420T061146
CREATED:20201120T130715Z
LAST-MODIFIED:20201121T100122Z
UID:892-1605974400-1605981600@cpalcobendas.com
SUMMARY:20/21 - 1ª Alevín Grupo C: Alcalá A vs Alcobendas A
DESCRIPTION:Encuentro correspondiente a la liga regular 2020/2021
URL:https://cpalcobendas.com/evento/20-21-1a-alevin-grupo-c-alcala-a-vs-alcobendas-a/
LOCATION:Madrid
CATEGORIES:Alevín,Base
ATTACH;FMTTYPE=image/jpeg:https://cpalcobendas.com/wp-content/uploads/2020/11/evento-alevin-a.jpg
ORGANIZER;CN="Federaci%C3%B3n Madrile%C3%B1a de Patinaje":MAILTO:info.fmp@fmp.es
END:VEVENT
BEGIN:VEVENT
DTSTART;TZID=Europe/Madrid:20201121T150000
DTEND;TZID=Europe/Madrid:20201121T160000
DTSTAMP:20260420T061146
CREATED:20201114T184102Z
LAST-MODIFIED:20201121T080225Z
UID:765-1605970800-1605974400@cpalcobendas.com
SUMMARY:20/21 - 1ª Alevín Grupo A: Alcobendas B vs Coslada
DESCRIPTION:Correspondiente al Campeonato Autonómico 1ª División Alevín Grupo A
URL:https://cpalcobendas.com/evento/alcobendas-b-vs-cp-coslada/
LOCATION:Pabellón A José Caballero\, Av. de la Transición Española\, s/n\, Alcobendas\, Madrid\, 28108\, España
CATEGORIES:Alevín,Base
ATTACH;FMTTYPE=image/jpeg:https://cpalcobendas.com/wp-content/uploads/2020/11/evento-alevin-b.jpg
ORGANIZER;CN="Federaci%C3%B3n Madrile%C3%B1a de Patinaje":MAILTO:info.fmp@fmp.es
END:VEVENT
BEGIN:VEVENT
DTSTART;TZID=Europe/Madrid:20201121T120000
DTEND;TZID=Europe/Madrid:20201121T133000
DTSTAMP:20260420T061146
CREATED:20201121T120638Z
LAST-MODIFIED:20201121T120638Z
UID:1084-1605960000-1605965400@cpalcobendas.com
SUMMARY:20/21 - Sub-17 Femenina: Alcorcón vs Alcobendas
DESCRIPTION:Encuentro correspondiente a la liga regular de la temporada 2020/2021
URL:https://cpalcobendas.com/evento/20-21-sub-17-femenina-alcorcon-vs-alcobendas/
LOCATION:Madrid
CATEGORIES:Base,Sub17 Femenino
ATTACH;FMTTYPE=image/jpeg:https://cpalcobendas.com/wp-content/uploads/2020/11/evento-femenino-sub-17.jpg
ORGANIZER;CN="Federaci%C3%B3n Madrile%C3%B1a de Patinaje":MAILTO:info.fmp@fmp.es
END:VEVENT
BEGIN:VEVENT
DTSTART;TZID=Europe/Madrid:20201121T120000
DTEND;TZID=Europe/Madrid:20201121T133000
DTSTAMP:20260420T061146
CREATED:20201121T104900Z
LAST-MODIFIED:20201121T104900Z
UID:1025-1605960000-1605965400@cpalcobendas.com
SUMMARY:20/21 - Junior Grupo B: El Casar vs Alcobendas
DESCRIPTION:Encuentro correspondiente a la liga regular de la temporada 2020/2021
URL:https://cpalcobendas.com/evento/20-21-junior-grupo-b-el-casar-vs-alcobendas/
LOCATION:Pista 4 Polideportivo José Caballero\, Av. de la Transición Española\, s/n\, Alcobendas\, Madrid\, 28108\, España
CATEGORIES:Base,Junior
ORGANIZER;CN="Federaci%C3%B3n Madrile%C3%B1a de Patinaje":MAILTO:info.fmp@fmp.es
END:VEVENT
BEGIN:VEVENT
DTSTART;TZID=Europe/Madrid:20201115T170000
DTEND;TZID=Europe/Madrid:20201115T170000
DTSTAMP:20260420T061146
CREATED:20210207T205147Z
LAST-MODIFIED:20210207T205147Z
UID:1496-1605459600-1605459600@cpalcobendas.com
SUMMARY:20/21 - Sub-14 Femenina: Alcobendas vs Alcorcón
DESCRIPTION:Encuentro correspondiente a la liga regular de la temporada 2020/2021
URL:https://cpalcobendas.com/evento/20-21-sub-14-femenina-alcobendas-vs-alcorcon/
LOCATION:Pista 4 Polideportivo José Caballero\, Av. de la Transición Española\, s/n\, Alcobendas\, Madrid\, 28108\, España
CATEGORIES:Base,Sub14 Femenino
ATTACH;FMTTYPE=image/jpeg:https://cpalcobendas.com/wp-content/uploads/2020/11/evento-femenino-sub-14.jpg
ORGANIZER;CN="Federaci%C3%B3n Madrile%C3%B1a de Patinaje":MAILTO:info.fmp@fmp.es
END:VEVENT
END:VCALENDAR